BEGIN:VCALENDAR
VERSION:2.0
PRODID:-//SIJW - ECPv6.15.18//NONSGML v1.0//EN
CALSCALE:GREGORIAN
METHOD:PUBLISH
X-WR-CALNAME:SIJW
X-ORIGINAL-URL:https://slovenianjewelryweek.com
X-WR-CALDESC:Events for SIJW
REFRESH-INTERVAL;VALUE=DURATION:PT1H
X-Robots-Tag:noindex
X-PUBLISHED-TTL:PT1H
BEGIN:VTIMEZONE
TZID:Europe/Ljubljana
BEGIN:DAYLIGHT
TZOFFSETFROM:+0100
TZOFFSETTO:+0200
TZNAME:CEST
DTSTART:20240331T010000
END:DAYLIGHT
BEGIN:STANDARD
TZOFFSETFROM:+0200
TZOFFSETTO:+0100
TZNAME:CET
DTSTART:20241027T010000
END:STANDARD
BEGIN:DAYLIGHT
TZOFFSETFROM:+0100
TZOFFSETTO:+0200
TZNAME:CEST
DTSTART:20250330T010000
END:DAYLIGHT
BEGIN:STANDARD
TZOFFSETFROM:+0200
TZOFFSETTO:+0100
TZNAME:CET
DTSTART:20251026T010000
END:STANDARD
BEGIN:DAYLIGHT
TZOFFSETFROM:+0100
TZOFFSETTO:+0200
TZNAME:CEST
DTSTART:20260329T010000
END:DAYLIGHT
BEGIN:STANDARD
TZOFFSETFROM:+0200
TZOFFSETTO:+0100
TZNAME:CET
DTSTART:20261025T010000
END:STANDARD
END:VTIMEZONE
BEGIN:VEVENT
DTSTART;VALUE=DATE:20250410
DTEND;VALUE=DATE:20250420
DTSTAMP:20260422T125225
CREATED:20250331T154746Z
LAST-MODIFIED:20250331T154746Z
UID:10000381-1744243200-1745107199@slovenianjewelryweek.com
SUMMARY:N-A-D-OBJECTS\, exhibition
DESCRIPTION:Faculty of Design\, independent higher education institution \nAtelje Galerija \nStari trg 30\, Ljubljana \nfrom 10 April to 19 April 2025 \nExhibition viewing: April 10 – April 19\, 2025\, by appointment. For appointments\, call: +386 (0)1 421 34 50 \n  \nThe n-a-d-Objects exhibition project refers to the 100th anniversary of the First Surrealist Manifesto\, written in 1924 by André Breton. In the form of wearable objects\, students from different fields of study at the Faculty of Design (Interior Design\, Fashion and Textiles\, Visual Communication and Design Management) will visually discuss their vision of contemporary challenges of the community and the individual in the context of reason and rationality. They are inspired by various works of surrealism (Salvador Dali\, Max Ernst\, Luis Bunuel\, Rene Magritte\, Man Ray\, Andre Breton). The design solutions include diverse approaches to materiality\, the use of visual elements and meaning in the conveyed message of the exhibited wearable objects solutions. \n  \nTANJA DEVETAK AND STUDENTS OF THE FACULTY OF DESIGN \n  \nwww.fd.si\, @faculty_of_design
URL:https://slovenianjewelryweek.com/event/n-a-d-objects-exhibition/
LOCATION:Atelje Galerija\, Stari trg 30\, Ljubljana\, 1000\, Slovenia
CATEGORIES:EXHIBITION
ATTACH;FMTTYPE=image/png:https://slovenianjewelryweek.com/wp-content/uploads/2025/03/N-A-D-OBJECTS.png
END:VEVENT
BEGIN:VEVENT
DTSTART;VALUE=DATE:20250409
DTEND;VALUE=DATE:20250419
DTSTAMP:20260422T125225
CREATED:20250331T155500Z
LAST-MODIFIED:20250331T155500Z
UID:10000384-1744156800-1745020799@slovenianjewelryweek.com
SUMMARY:JEWELRY EXHIBITION SoFTI A Q U A by E2RD & INTERZERO Plastics Innovations
DESCRIPTION:ATELJE GALLERY \nStari trg 30\, Ljubljana \nfrom 9 April to 18 April 2025 \nOpening of the exhibition: Wednesday\, 9 April 2025\, at 18:00 \nExhibition viewing: April 9 – April 18\, 2025\, by appointment. For appointments\, call: +386 (0)1 421 34 50 \n  \nSoFTI is an imitation of coral\, made of recycled plastic material. Uniquely designed coral. Preserving coral ecosystems for future generations\, for a world without waste. \nMaterial: Interzero Plastics Innovations – procyclen®PET 100% recycled PET material \n  \nBOJANA KOVAČIČ ZEMLJIČ\, E2RD
URL:https://slovenianjewelryweek.com/event/jewelry-exhibition-softi-a-q-u-a-by-e2rd-interzero-plastics-innovations/
LOCATION:Atelje Galerija\, Stari trg 30\, Ljubljana\, 1000\, Slovenia
CATEGORIES:EXHIBITION
ATTACH;FMTTYPE=image/jpeg:https://slovenianjewelryweek.com/wp-content/uploads/2025/03/JEWELRY-EXHIBITION-SoFTI-A-Q-U-A-by-E2RD-INTERZERO.jpg
END:VEVENT
END:VCALENDAR