BEGIN:VCALENDAR
VERSION:2.0
PRODID:-//SIJW - ECPv6.15.18//NONSGML v1.0//EN
CALSCALE:GREGORIAN
METHOD:PUBLISH
X-WR-CALNAME:SIJW
X-ORIGINAL-URL:https://slovenianjewelryweek.com/sl/
X-WR-CALDESC:Dogodki za SIJW
REFRESH-INTERVAL;VALUE=DURATION:PT1H
X-Robots-Tag:noindex
X-PUBLISHED-TTL:PT1H
BEGIN:VTIMEZONE
TZID:Europe/Ljubljana
BEGIN:DAYLIGHT
TZOFFSETFROM:+0100
TZOFFSETTO:+0200
TZNAME:CEST
DTSTART:20240331T010000
END:DAYLIGHT
BEGIN:STANDARD
TZOFFSETFROM:+0200
TZOFFSETTO:+0100
TZNAME:CET
DTSTART:20241027T010000
END:STANDARD
BEGIN:DAYLIGHT
TZOFFSETFROM:+0100
TZOFFSETTO:+0200
TZNAME:CEST
DTSTART:20250330T010000
END:DAYLIGHT
BEGIN:STANDARD
TZOFFSETFROM:+0200
TZOFFSETTO:+0100
TZNAME:CET
DTSTART:20251026T010000
END:STANDARD
BEGIN:DAYLIGHT
TZOFFSETFROM:+0100
TZOFFSETTO:+0200
TZNAME:CEST
DTSTART:20260329T010000
END:DAYLIGHT
BEGIN:STANDARD
TZOFFSETFROM:+0200
TZOFFSETTO:+0100
TZNAME:CET
DTSTART:20261025T010000
END:STANDARD
END:VTIMEZONE
BEGIN:VEVENT
DTSTART;TZID=Europe/Ljubljana:20250414T150000
DTEND;TZID=Europe/Ljubljana:20250414T170000
DTSTAMP:20260422T173544
CREATED:20250331T155212Z
LAST-MODIFIED:20250401T082007Z
UID:10000410-1744642800-1744650000@slovenianjewelryweek.com
SUMMARY:PREMIKANJE MEJA S 3D TISKANIM NAKITOM
DESCRIPTION:PREMIKANJE MEJA S 3D TISKANIM NAKITOM\, razstava\, predavanje\, vodenje po razstavi\, predstavitev 3D tiskanja in skeniranja\nNaravoslovnotehniška fakulteta \nSnežniška 5\, Ljubljana \nponedeljek\, 14. 4. 2025\, ob 15.00 \n  \n\nPredavanje s predstavitvijo 3D tiskanega nakita ter prikazi primerov iz prakse. Primeri uspešnih oblikovalcev in blagovnih znamk\, ki uporabljajo 3D tisk. Materiali za 3D tisk nakita (plastika\, kovina\, smola\, biokompatibilni materiali). Predstavitev materialov in programske opreme (Blender).\n\nPrimeri študentskih kolekcij. Prednosti 3D tiskanega nakita v primerjavi s tradicionalnimi metodami. Kako 3D tisk omogoča personalizacijo in trajnostni dizajn. Možnosti prodaje in trženja 3D tiskanega nakita. \n  \n\nDemonstracija 3D tiskanja in skeniranja v 3D Labu NTF (10–20 min.) / Muck\, (Kočevar\, Čuk)\n\nPrikaz\, kako nastane 3D tiskani nakit – od digitalnega modela do fizičnega izdelka. Kratka predstavitev različnih tiskalnikov\, skenerjev in tiskanih izdelkov. Razlaga o naknadni obdelavi (brušenje\, poliranje\, galvanizacija). \n  \n\nVoden ogled razstave 3D tiskanega nakita v Mitnici\n\nObiskovalci si ogledajo primere različnih izdelkov 3D tiskanega nakita. \n  \nIzvajalci: Prof. Karin Košak\, Prof. Dr. Deja Muck (Doc. Dr. Tanja Nuša Kočevar\, tehnična sodelavka Marjeta Čuk)
URL:https://slovenianjewelryweek.com/sl/event/premikanje-meja-s-3d-tiskanim-nakitom/
LOCATION:Naravoslovnotehniška fakulteta\, Snežniška 5\, Ljubljana\, 1000\, Slovenia
CATEGORIES:PROGRAM,RAZSTAVE
ATTACH;FMTTYPE=image/jpeg:https://slovenianjewelryweek.com/wp-content/uploads/2025/03/STUDENT-VISIONS-IN-3D-PRINTED-JEWERLY.jpg
END:VEVENT
BEGIN:VEVENT
DTSTART;TZID=Europe/Ljubljana:20250414T140000
DTEND;TZID=Europe/Ljubljana:20250414T200000
DTSTAMP:20260422T173544
CREATED:20250331T133537Z
LAST-MODIFIED:20250401T082244Z
UID:10000411-1744639200-1744660800@slovenianjewelryweek.com
SUMMARY:MASTERCLASS GRAVIRANJA Z ANASTASIO YOUNG\, masterclass
DESCRIPTION:Lab za nakit\, Center Rog \nTrubarjeva 72\, Ljubljana \nponedeljek\, 14. 4. 2025\, 14.00-20.00 \ntorek\, 15. 4. 2025\,14.00-20.00 \n  \nPriznana britanska oblikovalka nakita in mojstrica graviranja Anastasia Young vas bo popeljala v čarobni svet graviranja v kovino. Na masterclassu se boste spoznali z osnovami graviranja\, si izdelali profesionalno graversko orodje ter se naučili\, kako pravilno naostriti in varno uporabljati graverske nože. Graverske veščine boste nato prenesli tudi v kovino\, in sicer z izdelavo različnih vzorcev ter napisov. \n  \nIzvajalka: Anastasia Young (UK) \nObvezne prijave na spletni strani Centra Rog: https://center-rog.si/
URL:https://slovenianjewelryweek.com/sl/event/masterclass-graviranja-z-anastasio-young-masterclass/2025-04-14/
LOCATION:Center Rog\, Trubarjeva 72\, Ljubljana\, 1000\, Slovenia
CATEGORIES:PROGRAM
ATTACH;FMTTYPE=image/jpeg:https://slovenianjewelryweek.com/wp-content/uploads/2025/03/ENGRAVING-MASTERCLASS-WITH-ANASTASIA-YOUNG.jpg
END:VEVENT
BEGIN:VEVENT
DTSTART;TZID=Europe/Ljubljana:20250410T190000
DTEND;TZID=Europe/Ljubljana:20250410T210000
DTSTAMP:20260422T173544
CREATED:20250331T160739Z
LAST-MODIFIED:20250401T084635Z
UID:10000418-1744311600-1744318800@slovenianjewelryweek.com
SUMMARY:PRODAJNA RAZSTAVA V D.TAJL CONCEPT STORE
DESCRIPTION:D.tajl Concept Store in ploščad pred lokalom \nGlavni trg 25\, Slovenj Gradec \nOtvoritev ulične razstave nakita: četrtek\, 10. 4. 2025\, ob 19.00 \nOgled razstave: med 10. 4. in 30. 4. 2025\, torek\, sreda\, petek\, 9.00-14.00\, četrtek\, 9.00-19.00\, sobota 9.00-12.00 \nV trgovini bo na ogled prodajna razstava oblikovalcev nakita\, prijavljenih na SIJW in članov društva\, ki oblikujejo nakit. Ulična razstava bo na ogled tri mesece in bo povezovala kose nakita in kulinariko lokalnega ponudnika GT19. \n  \nIzvajalci: Društvo ustvarjalcev D.Tajl \nFB: D.tajl Concept Store
URL:https://slovenianjewelryweek.com/sl/event/prodajna-razstava-v-d-tajl-concept-store/
LOCATION:Društvo ustvarjalcev D.Tajl\, Glavni trg 25\, Slovenj Gradec\, 2380\, Slovenia
CATEGORIES:PROGRAM
ATTACH;FMTTYPE=image/png:https://slovenianjewelryweek.com/wp-content/uploads/2025/03/D-tajl.png
END:VEVENT
BEGIN:VEVENT
DTSTART;VALUE=DATE:20250410
DTEND;VALUE=DATE:20250411
DTSTAMP:20260422T173544
CREATED:20250331T161619Z
LAST-MODIFIED:20250401T115741Z
UID:10000424-1744272000-1744304400@slovenianjewelryweek.com
SUMMARY:NADENI SI STEKLO
DESCRIPTION:NADENI SI STEKLO\, otvoritev razstave nakita in delavnica oblikovanja nakita iz stekla\, za udeležence otvoritve\nŠolski center Rogaška Slatina \nSteklarska ulica 1\, Rogaška Slatina \nOtvoritev: četrtek\, 10. 4. 2025\, ob 16.00 \nOgled razstave: od 11. 4. do 18. 4. 2025\, vsak delovni dan do 15.00 \n  \nRazstava Nadeni si steklo je edinstven prikaz ustvarjalnosti in spretnosti dijakov Šolskega centra Rogaška Slatina\, ki skozi stekleni nakit izražajo svojo domišljijo\, občutek za estetiko in obrtniško znanje. Razstavljeni unikatni kosi odražajo preplet sodobnih oblikovalskih pristopov in tradicionalnih tehnik obdelave stekla\, pri čemer vsak kos pripoveduje svojo zgodbo. S to razstavo želimo poudariti pomen ročnega dela\, inovativnosti in umetniškega izraza ter obiskovalcem približati čar stekla kot edinstvenega materiala za oblikovanje nakita. Razstava\, ki so jo pripravili dijaki programa tehnik steklarstva\, bo na ogled od 11. 4. do 18. 4. 2025\, vsak delovni dan do 15. ure. \nOb otvoritvi razstave\, to bo v četrtek\, 10. 4. 2025\, ob 16. uri\, za obiskovalce pripravljamo brezplačno kreativno delavnico oblikovanja nakita iz stekla. \n  \nIzvajalci: mentorica Zinka Kobula Kamenšek in dijaki programa Tehnik steklarstva \n  \nwww.scrs.si\, FB: https://www.facebook.com/scrs.si \, IG profil: sc_rogaska \n(oz. www.instagram.com/sc_rogaska/)
URL:https://slovenianjewelryweek.com/sl/event/nadeni-si-steklo/2025-04-10/2/
LOCATION:Šolski center Rogaška Slatina\, Steklarska ulica 1\, Rogaška Slatina\, 3250\, Slovenia
CATEGORIES:PROGRAM,RAZSTAVE
ATTACH;FMTTYPE=image/jpeg:https://slovenianjewelryweek.com/wp-content/uploads/2025/03/PUT-ON-YOUR-GLASS-NECKLACE-img-1.jpg
END:VEVENT
BEGIN:VEVENT
DTSTART;VALUE=DATE:20250410
DTEND;VALUE=DATE:20250419
DTSTAMP:20260422T173544
CREATED:20250331T161619Z
LAST-MODIFIED:20250401T115741Z
UID:10000423-1744243200-1745020799@slovenianjewelryweek.com
SUMMARY:NADENI SI STEKLO
DESCRIPTION:NADENI SI STEKLO\, otvoritev razstave nakita in delavnica oblikovanja nakita iz stekla\, za udeležence otvoritve\nŠolski center Rogaška Slatina \nSteklarska ulica 1\, Rogaška Slatina \nOtvoritev: četrtek\, 10. 4. 2025\, ob 16.00 \nOgled razstave: od 11. 4. do 18. 4. 2025\, vsak delovni dan do 15.00 \n  \nRazstava Nadeni si steklo je edinstven prikaz ustvarjalnosti in spretnosti dijakov Šolskega centra Rogaška Slatina\, ki skozi stekleni nakit izražajo svojo domišljijo\, občutek za estetiko in obrtniško znanje. Razstavljeni unikatni kosi odražajo preplet sodobnih oblikovalskih pristopov in tradicionalnih tehnik obdelave stekla\, pri čemer vsak kos pripoveduje svojo zgodbo. S to razstavo želimo poudariti pomen ročnega dela\, inovativnosti in umetniškega izraza ter obiskovalcem približati čar stekla kot edinstvenega materiala za oblikovanje nakita. Razstava\, ki so jo pripravili dijaki programa tehnik steklarstva\, bo na ogled od 11. 4. do 18. 4. 2025\, vsak delovni dan do 15. ure. \nOb otvoritvi razstave\, to bo v četrtek\, 10. 4. 2025\, ob 16. uri\, za obiskovalce pripravljamo brezplačno kreativno delavnico oblikovanja nakita iz stekla. \n  \nIzvajalci: mentorica Zinka Kobula Kamenšek in dijaki programa Tehnik steklarstva \n  \nwww.scrs.si\, FB: https://www.facebook.com/scrs.si \, IG profil: sc_rogaska \n(oz. www.instagram.com/sc_rogaska/)
URL:https://slovenianjewelryweek.com/sl/event/nadeni-si-steklo/2025-04-10/1/
LOCATION:Šolski center Rogaška Slatina\, Steklarska ulica 1\, Rogaška Slatina\, 3250\, Slovenia
CATEGORIES:PROGRAM,RAZSTAVE
ATTACH;FMTTYPE=image/jpeg:https://slovenianjewelryweek.com/wp-content/uploads/2025/03/PUT-ON-YOUR-GLASS-NECKLACE-img-1.jpg
END:VEVENT
BEGIN:VEVENT
DTSTART;VALUE=DATE:20250409
DTEND;VALUE=DATE:20250419
DTSTAMP:20260422T173544
CREATED:20250331T155500Z
LAST-MODIFIED:20250401T120212Z
UID:10000425-1744156800-1745020799@slovenianjewelryweek.com
SUMMARY:RAZSTAVA NAKITA SoFTI A Q U A z E2RD & INTERZERO Plastics Innovations
DESCRIPTION:Atelje Galerija \nStari trg 30\, Ljubljana \nOtvoritev: sreda\, 9. 4. 2025\, ob 18.00 \nOgled razstave: od 9. 4. do 18. 4. 2025\, po dogovoru\, pokličite na +386 (0)1 421 34 50 \n  \nSoFTI je imitacija korale\, izdelana iz recikliranega plastičnega materiala. \nUnikatno oblikovana korala. Ohranjanje koralnih ekosistemov za prihodnje generacije\, za svet brez odpadkov. \nMaterial: Interzero Plastics Innovations – procyclen®PET 100% recikliran PET material \n  \nIzvajalka: Bojana Kovačič Zemljič\, E2rd
URL:https://slovenianjewelryweek.com/sl/event/razstava-nakita-softi-a-q-u-a-z-e2rd-interzero-plastics-innovations/
LOCATION:Atelje Galerija\, Stari trg 30\, Ljubljana\, 1000\, Slovenia
CATEGORIES:RAZSTAVE
ATTACH;FMTTYPE=image/jpeg:https://slovenianjewelryweek.com/wp-content/uploads/2025/03/JEWELRY-EXHIBITION-SoFTI-A-Q-U-A-by-E2RD-INTERZERO.jpg
END:VEVENT
END:VCALENDAR