BEGIN:VCALENDAR
VERSION:2.0
PRODID:-//SIJW - ECPv6.15.18//NONSGML v1.0//EN
CALSCALE:GREGORIAN
METHOD:PUBLISH
X-ORIGINAL-URL:https://slovenianjewelryweek.com/sl/
X-WR-CALDESC:Dogodki za SIJW
REFRESH-INTERVAL;VALUE=DURATION:PT1H
X-Robots-Tag:noindex
X-PUBLISHED-TTL:PT1H
BEGIN:VTIMEZONE
TZID:Europe/Ljubljana
BEGIN:DAYLIGHT
TZOFFSETFROM:+0100
TZOFFSETTO:+0200
TZNAME:CEST
DTSTART:20240331T010000
END:DAYLIGHT
BEGIN:STANDARD
TZOFFSETFROM:+0200
TZOFFSETTO:+0100
TZNAME:CET
DTSTART:20241027T010000
END:STANDARD
BEGIN:DAYLIGHT
TZOFFSETFROM:+0100
TZOFFSETTO:+0200
TZNAME:CEST
DTSTART:20250330T010000
END:DAYLIGHT
BEGIN:STANDARD
TZOFFSETFROM:+0200
TZOFFSETTO:+0100
TZNAME:CET
DTSTART:20251026T010000
END:STANDARD
BEGIN:DAYLIGHT
TZOFFSETFROM:+0100
TZOFFSETTO:+0200
TZNAME:CEST
DTSTART:20260329T010000
END:DAYLIGHT
BEGIN:STANDARD
TZOFFSETFROM:+0200
TZOFFSETTO:+0100
TZNAME:CET
DTSTART:20261025T010000
END:STANDARD
END:VTIMEZONE
BEGIN:VEVENT
DTSTART;VALUE=DATE:20250410
DTEND;VALUE=DATE:20250506
DTSTAMP:20260420T154748
CREATED:20250331T155023Z
LAST-MODIFIED:20250401T085251Z
UID:10000421-1744243200-1746489599@slovenianjewelryweek.com
SUMMARY:ŠTUDENTSKE VIZIJE V 3D TISKANEM NAKITU\, predavanje\, vodenje po razstavi\, predstavitev 3D tiskanja in skeniranja
DESCRIPTION:Naravoslovnotehniška fakulteta \nGalerija MITNICA \nSnežniška 5\, Ljubljana \nOgled razstave: od 10. 4. do 5. 5. 2025
URL:https://slovenianjewelryweek.com/sl/event/student-visions-in-3d-printed-jewerly-lecture-guided-exhibition-tour-presentation-of-3d-printing-and-scanning/
LOCATION:Galerija MITNICA\, Snežniška 5\, Ljubljana\, 1000\, Slovenia
CATEGORIES:RAZSTAVE
ATTACH;FMTTYPE=image/jpeg:https://slovenianjewelryweek.com/wp-content/uploads/2025/03/STUDENT-VISIONS-IN-3D-PRINTED-JEWERLY.jpg
END:VEVENT
BEGIN:VEVENT
DTSTART;TZID=Europe/Ljubljana:20250410T080000
DTEND;TZID=Europe/Ljubljana:20250424T180000
DTSTAMP:20260420T154748
CREATED:20250331T132224Z
LAST-MODIFIED:20250401T183204Z
UID:10000419-1744272000-1745517600@slovenianjewelryweek.com
SUMMARY:RAZSTAVA HARMONIJA / HARMONY\, SLOVENJ GRADEC
DESCRIPTION:Koroški pokrajinski muzej  \nGlavni trg 24\, Slovenj Gradec \nOtvoritev: v četrtek\, 10. 4. 2025\, ob 18.00 \nOgled razstave: od 10. 4. do 24. 4. 2025\, od torka do petka\, 10.00­-18.00\, sobota\, nedelja\, 10.00­-17.00 \n  \nNa razstavi bo predstavljen unikatni nakit slovenskih oblikovalcev in zlatarjev\, ki pri svojem delu uporabljajo izključno slovenske kamne\, najdene in brušene v Sloveniji. Kamen in nakit sta globoko povezana\, saj skupaj pripovedujeta zgodbe\, stare več milijonov let\, ter jih prepletata s sodobnimi oblikovalskimi pristopi. Avtorski nakit\, v katerega je vdelan naravni kamen iz slovenskih nahajališč\, poudarja lepoto narave skozi barvo\, strukturo in obliko\, kar različne domače ustvarjalce povezuje v edinstveno harmonijo. \nProjekt je nastal v sodelovanju s Prirodoslovnim muzejem Slovenije in Obrtno-podjetniško zbornico Slovenije (Sekcijo zlatarjev in draguljarjev). Povezuje se tudi z mednarodnim sejmom mineralov MINFOS\, se širi in nadgrajuje. Gre za trajnostno naravnan projekt s poudarkom na kulturni in naravni dediščini Slovenije. \n  \nKuratorke razstave: \nAleksandra Čas\, višja kustosinja / Senior Curator \nDalija Sega\, akad. kiparka /Academic Sculptor \nTina Mežek\, zlatarska mojstrica / Master Goldsmith \n  \nOblikovalci: \nSara Mermal\, Christoph Steidel Porenta\, Nina Kamien\, Dalija Sega\, Katarina Sporar\, Skušek\, Zvezdana Konte – Nikaya Jewerly\, Nina Podobnikar\, Rok Široka\, Karolina Iveljič\, Rosanna Ro\, Neža Žehelj\, Zala Štalekar\, Barbara Nardoni\, Peter Dragolič\, Metka Mikuletič\, Milica Bubanja\, Katja Marolt\, Sandra Kocjančič\, Srečko Molk\, Ema Smodiš\, Petra Jančar\, Aleš Hočevar\, Anita Sonc\, Anja Juvan\, Daša Petrnel\, Dunja Trajkovska\, Eva Smodiš\, Katja Benevol Gabrijelčič\, Sabina Kozamernik\, Tea Gabrovec\, Tiana Milićević\, Alja Markelj.
URL:https://slovenianjewelryweek.com/sl/event/razstava-harmonija-harmony-slovenj-gradec/
LOCATION:Koroški pokrajinski muzej\, Glavni trg 24\, Slovenj Gradec\, Slovenia
CATEGORIES:GLAVNE RAZSTAVE,RAZSTAVE
ATTACH;FMTTYPE=image/jpeg:https://slovenianjewelryweek.com/wp-content/uploads/2025/03/sijw-2025-sl-grad.jpg
END:VEVENT
BEGIN:VEVENT
DTSTART;TZID=Europe/Ljubljana:20250411T120000
DTEND;TZID=Europe/Ljubljana:20250506T190000
DTSTAMP:20260420T154748
CREATED:20250331T140406Z
LAST-MODIFIED:20250401T084050Z
UID:10000416-1744372800-1746558000@slovenianjewelryweek.com
SUMMARY:LEA CULETTO: COMBING THROUGH\, razstava
DESCRIPTION:SCCA\, Zavod za sodobno umetnost – Ljubljana \nGalerija Škuc \nStari trg 21\, Ljubljana \nOtvoritev: petek\, 11. 4. 2025\, ob 19.00 \nOgled razstave: od 11. 4. do 6. 5. 2025\, od torka do nedelje\, 12.00–19.00 \n  \n  \nSamostojna razstava Lee Culetto Combing Through (Prečesana) predstavlja umetničin najnovejši projekt\, v katerem se ukvarja z družbeno kulturnim pogledom na žensko telo\, tokrat skozi prizmo las\, poraščenosti in lepotnih standardov. Umetnica raziskuje zgodovino las in njihovo dvojnost – hkrati živi in mrtvi\, cenjeni in nagnusni – pri čemer odkriva mite\, uroke in vraže\, v katerih so lasje simbolizirali moč ter identiteto. Skozi te pripovedi je bilo žensko telo pogosto disciplinirano in nadzorovano. \nLea Culetto ustvarja v raznih medijih. Pogosto se poslužuje ročnih spretnosti in obrti\, kot so šivanje\, pletenje in vezenje\, kar je veljalo za tradicionalno ženska opravila. Te pristope združuje s trajnostnimi tehnologijami in novimi recepturami. Med drugim zbira svoje odpadle lase\, jih zmelje v pigmente in meša z materiali na biološki osnovi\, in tako pripravlja bioplastične perlice za nizanje nakita\, črnilo za pisanje ali biotekstil. Pri tem izhaja iz viktorijanskega žalnega nakita\, njena dela pa poudarjajo globok kulturni pomen las in hkrati izzivajo gnus ter nelagodje\, povezano z naravnimi telesnimi procesi. \nLea Culetto (1995) je končala podiplomski študij slikarstva na ALUO. Kot samozaposlena v kulturi deluje na področju vizualnih umetnosti\, s poudarkom na feminističnem pristopu. S pomočjo tekstila ter mešanih medijev ustvarja objekte in instalacije\, skozi katere preizprašuje ideale\, tabuje ter predstave o ženskem telesu\, velikokrat izhajajoč iz osebne izkušnje. Sodelovala je na številnih samostojnih in skupinskih razstavah ter festivalih v Sloveniji in tujini. Izvaja tudi različne delavnice in deluje kot kostumografinja. \n  \nIzvajalka: Lea Culetto \nSCCA-LJUBLJANA\, GALERIJA ŠKUC \n  \nVstopna \n \nhttps://www.instagram.com/world_of_art_school/ \nhttps://www.galerijaskuc.si/si/
URL:https://slovenianjewelryweek.com/sl/event/lea-culetto-combing-through-razstava/
LOCATION:Galerija Škuc\, Stari trg 21\, Ljubljana\, 1000\, Slovenia
CATEGORIES:RAZSTAVE
ATTACH;FMTTYPE=image/jpeg:https://slovenianjewelryweek.com/wp-content/uploads/2025/03/LEA-CULETTO-COMBING-THROUGH-1.jpg
END:VEVENT
BEGIN:VEVENT
DTSTART;VALUE=DATE:20250412
DTEND;VALUE=DATE:20250425
DTSTAMP:20260420T154748
CREATED:20250331T160418Z
LAST-MODIFIED:20250401T080909Z
UID:10000403-1744416000-1745539199@slovenianjewelryweek.com
SUMMARY:/ NAKIT\, NOSI ME /\, predstavitev projekta
DESCRIPTION:Center Rog\, Naravoslovnotehniška fakulteta Univerze v Ljubljani \nKoroški pokrajinski muzej \nGlavni trg 24\, Slovenj Gradec \nOgled razstave: od 10. 4. do 24. 4. 2025\, od torka do petka\, 10.00-­18.00\, sobota\, nedelja\, prazniki\, 10.00­17.00 \n  \nTrajnostni projekt Nakit\, nosi me je nastal pri izbirnem predmetu Modni dodatki 1 v okviru sodelovanja med Centrom Rog v Ljubljani in Katedro za oblikovanje tekstilij in oblačil\, Oddelka za grafiko\, tekstilstvo in oblikovanje\, Naravoslovnotehniške fakultete Univerze v Ljubljani. Ustvarjalno skupino enaindvajsetih študentk in študentov različnih letnikov dodiplomskega študija oblikovanja tekstilij in oblačil so vodili strokovni mentorji red. prof. Nataša Peršuh in asist. Nataša Hrupić z Univerze v Ljubljani\, Naravoslovnotehniška fakulteta\, Oddelek za tekstilstvo\, grafiko in oblikovanje ter zlatarski mojster Peter Dragolič iz Laboratorija za nakit Centra Rog. \n  \nSkozi študijski projekt oblikovanja in izdelave nakita so študentje spoznavali možnosti ter delovno okolje\, raziskovali različne klasične in inovativne materiale ter izvedbene tehnike. Ob na novo naučenih ročnih zlatarskih tehnikah so v izdelke trajnostno umeščali ostanke predmetov iz naravnih in drugih materialov iz lastnega okolja\, velikokrat po principih pouporabe in večvrednostnega recikliranja (upcycling – creative reuse). Nastale so raznolike kolekcije nakita\, dokumentirane z uporabo treh različnih tehnik digitalnega fotografiranja avtorja Marija Županova\, ki kreativno podpirajo identiteto kolekcij. Inovativna tehnologija skenografija gledalcu namreč omogoča pristen in globlji vpogled v materialnost nakita ter vabi k nadaljnjemu razmišljanju o odnosu med deli telesa in nakitom.
URL:https://slovenianjewelryweek.com/sl/event/nakit-nosi-me-predstavitev-projekta/
LOCATION:Koroški pokrajinski muzej\, Glavni trg 24\, Slovenj Gradec\, Slovenia
CATEGORIES:PROGRAM
ATTACH;FMTTYPE=image/jpeg:https://slovenianjewelryweek.com/wp-content/uploads/2025/03/carry-me.jpg
END:VEVENT
BEGIN:VEVENT
DTSTART;VALUE=DATE:20250412
DTEND;VALUE=DATE:20250527
DTSTAMP:20260420T154748
CREATED:20250331T160146Z
LAST-MODIFIED:20250401T083530Z
UID:10000415-1744416000-1748303999@slovenianjewelryweek.com
SUMMARY:ALEGRIA/VESELJE\, razstava
DESCRIPTION:Pedagoška fakulteta\, smer Vizualne umetnosti in Oblikovanje\, Univerza na Primorskem \nGalerija Insula Izola \nSmrekarjeva ulica 20\, Izola \n  \nOtvoritev: sobota\, 12. 4. 2025\, ob 12.00 \nOgled razstave: od 12. 4. do 26. 4. 2025\, od ponedeljka do petka\, 10.00-13.00 in od 17.00-19.00\, sobota od 10.00-13.00 \nSkupinska razstava Alegría predstavlja dela študentov Vizualnih umetnosti in oblikovanja Pedagoške fakultete Univerze na Primorskem. Razstava raziskuje veselje kot univerzalno ustvarjalno silo\, ki presega osebne in kulturne meje. \n  \nŠtudentje skozi sodoben nakit preizprašujejo\, kako lahko oblikovanje postane več kot zgolj estetski izraz – kot nosilec pozitivne energije\, osebnih zgodb in čustev. Z raziskovanjem inovativnih oblik in materialov preizkušajo meje tradicionalnega nakita ter odpirajo vprašanja: \nKako lahko nakit izraža veselje in življenjsko energijo? \nKakšen vpliv imajo materiali\, oblike in barve na dojemanje veselja? \nKako nakit zrcali osebne občutke in spomine? \n  \nIzvajalci: študenti študijskega programa Vizualne umetnosti in oblikovanje UP PEF pod mentorstvom Dr. Tine Cotič in strokovno pomočjo oblikovalke sodobnega nakita Sandre Kocjančič \n  \nhttps://www.pef.upr.si/ \nhttps://www.facebook.com/uppef \nhttps://www.instagram.com/uppef_vuo/ \nhttps://www.pef.upr.si/ \nhttps://www.facebook.com/uppef \nhttps://www.instagram.com/uppef_vuo/
URL:https://slovenianjewelryweek.com/sl/event/alegria-veselje-razstava/
LOCATION:Pedagoška fakulteta\, smer Vizualne umetnosti in Oblikovanje\, Univerza na Primorskem\, Smrekarjeva ulica 20\, Izola\, 6310\, Slovenia
CATEGORIES:RAZSTAVE
ATTACH;FMTTYPE=image/jpeg:https://slovenianjewelryweek.com/wp-content/uploads/2025/03/joy.jpg
END:VEVENT
BEGIN:VEVENT
DTSTART;TZID=Europe/Ljubljana:20250412T100000
DTEND;TZID=Europe/Ljubljana:20250503T130000
DTSTAMP:20260420T154748
CREATED:20250330T163106Z
LAST-MODIFIED:20250401T183156Z
UID:10000426-1744452000-1746277200@slovenianjewelryweek.com
SUMMARY:RAZSTAVA VESELJE  / ALEGRIA\, IZOLA
DESCRIPTION:Galerija DRAT \nLjubljanska ulica 20\, Izola \nOtvoritev: v soboto\, 12. 4. 2025\, ob 11.00 \nOgled razstave: od 5. 4. do 3. 5. 2025\, od torka do sobote\, 10.00-13.00 ali kadarkoli po dogovoru\, pokličite +386 41 952 918 \n  \nOrganizacija in postavitev razstave: Sandra Kocjančič \nKustos: Luis Acosta  \nLuis Acosta sledi izkušnjam\, ki jih je kot kustos pridobil na razstavah nakita\, kot so Beyond Textile (21 argentinskih oblikovalcev)\, More than clogs and tulips in Dialogues from Holland (obakrat 20 nizozemskih oblikovalcev)\, RED – BLACK (21 argentinskih  oblikovalcev)\, The strength of textile in Eloquence of paper (obakrat 24  mednarodnih oblikovalcev)\, Beauty and Wonder (26 mednarodnih oblikovalcev)\, Out of the Shadow into the Light (5 galeristov – oblikovalcev)\, The distances bring us closer (15 argentinskih oblikovalcev)\, On the move (26 mednarodnih  oblikovalcev) in Dream and reality (32 mednarodnih oblikovalcev). V Izoli bo na ogled razstava Alegria / Veselje\, z udeležbo dvaintridesetih mednarodnih oblikovalcev. \nVeselje v sodobnem nakitu predstavlja različne pristope\, ki praznujejo življenje\, ustvarjalnost in čustveno povezanost. To je neizčrpen vir navdiha in ustvarjalnosti\, ki se kaže v oblikovanju\, izbiri materialov\, barvah in oblikah. Mnogi kosi nakita (broške\, prstani\, zapestnice in uhani) na tej razstavi vključujejo živahne barve\, igrive oblike in inovativne  materiale\, ki vzbujajo občutke sreče ter vitalnosti. Vsak kos nakita pripoveduje osebno ali kolektivno zgodbo\, ki tisto vsakdanje spreminja v nekaj izjemnega. Osredotočajo se na trajnost in ustvarjalnost\, uporaba recikliranih ali nekonvencionalnih materialov pa dodaja dimenzijo upanja in odgovornosti. Ta kombinacija estetike ter družbene ozaveščenosti krepi idejo\, da je umetnost lahko sredstvo za Alegrio (veselje) in transformacijo. V tem kontekstu nakit ni le dodatek\, temveč način izražanja čustev\, povezovanje z drugimi in praznovanje lepote življenja. \n  \n  \nMednarodni oblikovalci: \nAlain Roggeman (BE)\, Alexandra Conde (MX)\, Alexandres Stefanis (US)\, Alice Protopopescu (RO)\, Alicia Salcedo Gonzálvez (ES)\, Andrea Barrera (CO)\, Andrea de Navarrete (AR)\, Austin Turley (US)\, Brigitta B. Horváth (HU)\, Catalina Rivera (ES)\, Cleopatra Cosulet (RO)\, Cova Ríos (ES)\, Cristina Rodriguez Nuńo (PT)\, Esteban Erosky (MX)\, Floor Max (NL)\, FLUXIS (Mariangela & Alberto) (IT)\, Gabriela Sierra (MX)\, Gabriela Squassini (AR)\, Julie Usel (CH)\, Lidia Godfrid (AR)\, Lunante (Paolo Gambarelli) (IT)\, May Gańan (ES)\, Oscar Abba (CL/IT)\, Oscar Torres Perez (CL)\, Patrizia Giachero (IT)\, Rut Rigol (ES)\, Sherry Cordova (US)\, Stefano Fronza (IT)\, Tiziana Chiara (IT)\, Valeria D’Annibale (IT/NL)\, Vera Blixen (ES)\, Viki Gómez (ES)
URL:https://slovenianjewelryweek.com/sl/event/razstava-veselje-alegria-izola/
LOCATION:Galerija DRAT\, Ljubljanska ulica 20\, Izola\, Slovenia
CATEGORIES:GLAVNE RAZSTAVE,RAZSTAVE
ATTACH;FMTTYPE=image/jpeg:https://slovenianjewelryweek.com/wp-content/uploads/2025/03/sijw-2025-izola.jpg
END:VEVENT
END:VCALENDAR